BEGIN:VCALENDAR
VERSION:2.0
PRODID:-//Santa Clarita Valley Bar Association - ECPv6.15.17//NONSGML v1.0//EN
CALSCALE:GREGORIAN
METHOD:PUBLISH
X-ORIGINAL-URL:https://scvbar.org
X-WR-CALDESC:Events for Santa Clarita Valley Bar Association
REFRESH-INTERVAL;VALUE=DURATION:PT1H
X-Robots-Tag:noindex
X-PUBLISHED-TTL:PT1H
BEGIN:VTIMEZONE
TZID:UTC
BEGIN:STANDARD
TZOFFSETFROM:+0000
TZOFFSETTO:+0000
TZNAME:UTC
DTSTART:20240101T000000
END:STANDARD
END:VTIMEZONE
BEGIN:VEVENT
DTSTART;TZID=UTC:20251022T130000
DTEND;TZID=UTC:20251022T143000
DTSTAMP:20260424T085318
CREATED:20251008T030948Z
LAST-MODIFIED:20251008T030948Z
UID:2774-1761138000-1761143400@scvbar.org
SUMMARY:MCLE Webinar - AI FOR LAWYERS: A Strategic Exploration
DESCRIPTION:Presented by Aaron Shechet\, Esq. of Shechet AI \nIs AI an extinction level event or a business opportunity for lawyers? This presentation is a strategic exploration on how the industry of law will be affected by AI. \nJoin us during this webinar for a practical look at the opportunities\, risks\, and future of AI in the legal profession. \n  \nOCTOBER 22\, 2025 at 1:00 PM\nFREE WEBINAR; RSVP REQUIRED \nEARN 1.0 HOUR TECHNOLOGY MCLE CREDIT \nRSVP TO INFO@SCVBAR.ORG
URL:https://scvbar.org/event/mcle-webinar-ai-for-lawyers-a-strategic-exploration/
LOCATION:Webinar
CATEGORIES:MCLE
ATTACH;FMTTYPE=image/jpeg:https://scvbar.org/wp-content/uploads/2025/10/AI-FOR-LAWYERS-A-STRATEGIC-EXPLORATION-2.jpg
ORGANIZER;CN="SCVBA":MAILTO:info@scvbar.org
END:VEVENT
END:VCALENDAR